BEGIN:VCALENDAR
VERSION:2.0
PRODID:-//hacksw/handcal//NONSGML v1.0//EN
CALSCALE:GREGORIAN
BEGIN:VEVENT
LOCATION:
SUMMARY:Augsburger OsterplÃ¤rrer
DTSTART:20260404T100000
DTEND:20260419T233000
DESCRIPTION:Frühjahrsplärrer
Buntes Treiben\, aufregende Fahrgeschäfte und kulinarische Köstlichkeiten. Zum Anfang des Sommers findet wie jedes Jahr der Augsburger Frühjahrsplärrer statt.
Egal ob für Jung oder Alt\, für Schleckermäuler oder Adrenalin-Junkies – beim Plärrer ist für jeden was dabei!

Wo: Plärrergelände
Save the Date: 04. April &#8211\; 19.04.2026
Weitere Informationen gibt es hier.



&nbsp\;



URL;VALUE=URI:https://www.auxtalents.de/?p=3863
DTSTAMP:20260422T101405
UID:69e89f6d8d256
END:VEVENT
END:VCALENDAR